BEGIN:VCALENDAR
VERSION:2.0
PRODID:-//ChamberMaster//Event Calendar 2.0//EN
METHOD:PUBLISH
X-PUBLISHED-TTL:P3D
REFRESH-INTERVAL:P3D
CALSCALE:GREGORIAN
BEGIN:VEVENT
DTSTART:20230126T220000Z
DTEND:20230127T000000Z
X-MICROSOFT-CDO-ALLDAYEVENT:FALSE
SUMMARY:Multi-Chamber Mixer Networking Event
DESCRIPTION:LOOKING for new networking opportunities in 2023? Look no further!\n\nThe Brookhaven Chamber along with Sandy Springs Perimeter and\n\nDunwoody Perimeter Chambers are kicking off the new year with a\n\nMulti-Chamber Mixer at LOOK Dine-in Cinemas in Brookhaven. \n\n\n\nMulti-Chamber events are the perfect opportunity for you to extend your\n\nnetworking reach with members from the surrounding Chambers of Commerce.\n\nBring your business cards and promotional materials to share!\n\nWe look forward to seeing you in 2023!
X-ALT-DESC;FMTTYPE=text/html:<div class="x_elementToProof" color:="" helvetica="" margin:="" padding:="" segoe="" style="border: 0px\; font-variant-numeric: inherit\; font-variant-east-asian: inherit\; font-stretch: inherit\; font-size: 15px\; line-height: inherit\; font-family: " ui="" vertical-align:="" web="" west=""><span style="font-size:18px\;"><span style="font-family:arial\;"><span style="border: 0px\; font-style: inherit\; font-variant: inherit\; font-weight: inherit\; font-stretch: inherit\; line-height: inherit\; margin: 0px\; padding: 0px\; vertical-align: baseline\; color: rgb(0\, 0\, 0)\;"><span class="x_ContentPasted0" color:="" display:="" inline="" margin:="" padding:="" style="border: 0px\; font-style: inherit\; font-variant: inherit\; font-weight: inherit\; font-stretch: inherit\; line-height: inherit\;" trebuchet="" vertical-align:="">LOOKING for new networking opportunities in 2023?&nbsp\;Look no further!<br />\nThe Brookhaven Chamber along with Sandy Springs Perimeter and<br />\nDunwoody Perimeter Chambers are&nbsp\;kicking off the new year with a<br />\nMulti-Chamber Mixer at LOOK Dine-in Cinemas in Brookhaven.&nbsp\;</span></span></span></span><br />\n<br />\n<span style="font-size:18px\;"><span style="font-family:arial\;"><span style="border: 0px\; font-style: inherit\; font-variant: inherit\; font-weight: inherit\; font-stretch: inherit\; line-height: inherit\; margin: 0px\; padding: 0px\; vertical-align: baseline\; color: rgb(0\, 0\, 0)\;"><span class="x_ContentPasted0" color:="" display:="" inline="" margin:="" padding:="" style="border: 0px\; font-style: inherit\; font-variant: inherit\; font-weight: inherit\; font-stretch: inherit\; line-height: inherit\;" trebuchet="" vertical-align:=""><span class="x_ContentPasted1" style="border: 0px\; font-style: inherit\; font-variant: inherit\; font-weight: inherit\; font-stretch: inherit\; line-height: inherit\; margin: 0px\; padding: 0px\; vertical-align: baseline\; color: inherit\; display: inline !important\;">Multi-Chamber events are the perfect opportunity for you to extend your<br />\nnetworking reach with members from the surrounding Chambers of Commerce.<br />\nBring your business cards and promotional materials to share!<br />\nWe look forward to seeing you in 2023!<br />\n<br />\n&nbsp\;<br />\n&nbsp\;</span></span></span></span></span><br />\n&nbsp\;</div>\n\n<div>&nbsp\;</div>\n
LOCATION:
UID:e.1787.3823
SEQUENCE:3
DTSTAMP:20260422T073211Z
URL:http://brookhavencommerce.chambermaster.com/events/details/multi-chamber-mixer-networking-event-3823
END:VEVENT

END:VCALENDAR
